BEGIN:VCALENDAR
VERSION:2.0
PRODID:-//Schroeder Law Offices, PC - ECPv6.15.20//NONSGML v1.0//EN
CALSCALE:GREGORIAN
METHOD:PUBLISH
X-ORIGINAL-URL:https://water-law.com
X-WR-CALDESC:Events for Schroeder Law Offices, PC
REFRESH-INTERVAL;VALUE=DURATION:PT1H
X-Robots-Tag:noindex
X-PUBLISHED-TTL:PT1H
BEGIN:VTIMEZONE
TZID:America/Denver
BEGIN:DAYLIGHT
TZOFFSETFROM:-0700
TZOFFSETTO:-0600
TZNAME:MDT
DTSTART:20250309T090000
END:DAYLIGHT
BEGIN:STANDARD
TZOFFSETFROM:-0600
TZOFFSETTO:-0700
TZNAME:MST
DTSTART:20251102T080000
END:STANDARD
BEGIN:DAYLIGHT
TZOFFSETFROM:-0700
TZOFFSETTO:-0600
TZNAME:MDT
DTSTART:20260308T090000
END:DAYLIGHT
BEGIN:STANDARD
TZOFFSETFROM:-0600
TZOFFSETTO:-0700
TZNAME:MST
DTSTART:20261101T080000
END:STANDARD
BEGIN:DAYLIGHT
TZOFFSETFROM:-0700
TZOFFSETTO:-0600
TZNAME:MDT
DTSTART:20270314T090000
END:DAYLIGHT
BEGIN:STANDARD
TZOFFSETFROM:-0600
TZOFFSETTO:-0700
TZNAME:MST
DTSTART:20271107T080000
END:STANDARD
END:VTIMEZONE
BEGIN:VEVENT
DTSTART;VALUE=DATE:20260817
DTEND;VALUE=DATE:20260821
DTSTAMP:20260423T165243
CREATED:20260417T183918Z
LAST-MODIFIED:20260417T183918Z
UID:10001-1786924800-1787270399@water-law.com
SUMMARY:2026 OAWU Summer Classic Conference
DESCRIPTION:Join attorneys Laura Schroeder and Henry Perlstein at the Oregon Association of Water Utilities (“OAWU”) annual conference this summer in Seaside\, Oregon. The event offers classes on water\, wastewater\, groundwater\, and more. Attendees will also get the chance to meet with the Board of Directors\, check out new technology and equipment exhibited by vendors\, and speak with other professionals in the water utilities industry. \nLaura Schroeder and Henry Perlstein will be teaching a class during the conference. On Tuesday\, August 18th from 3:30 PM to 5:00 PM\, Laura Schroeder and Henry Perlstein will be teaching a class entitled “Laws 101 for Utility Operations.”  To learn more about the full event schedule\, visit the OAWU website here.
URL:https://water-law.com/event/2026-oawu-summer-classic-conference/
END:VEVENT
BEGIN:VEVENT
DTSTART;VALUE=DATE:20261202
DTEND;VALUE=DATE:20261205
DTSTAMP:20260423T165243
CREATED:20260313T185422Z
LAST-MODIFIED:20260313T185422Z
UID:9959-1796169600-1796428799@water-law.com
SUMMARY:Washington State Water Resources Association Annual Conference
DESCRIPTION:The 2026 WSWRA Annual Conference will be held at the historic Davenport Hotel in Spokane\, Washington.  The three-day event held December 2nd through December 4th\, 2026 will showcase captivating speakers\, 2027 industry insights and a look back on 2026 accomplishments. Join our Shareholder Laura Schroeder at this informative event.
URL:https://water-law.com/event/washington-state-water-resources-association-annual-conference/
LOCATION:Historic Davenport Hotel\, 10 South Post Street\, Spokane\, WA\, 99201\, United States
ORGANIZER;CN="Washington State Water Resources Association":MAILTO:jen@wswra.org
END:VEVENT
END:VCALENDAR