BEGIN:VCALENDAR
VERSION:2.0
PRODID:-//Schroeder Law Offices, PC - ECPv6.15.20//NONSGML v1.0//EN
CALSCALE:GREGORIAN
METHOD:PUBLISH
X-WR-CALNAME:Schroeder Law Offices, PC
X-ORIGINAL-URL:https://water-law.com
X-WR-CALDESC:Events for Schroeder Law Offices, PC
REFRESH-INTERVAL;VALUE=DURATION:PT1H
X-Robots-Tag:noindex
X-PUBLISHED-TTL:PT1H
BEGIN:VTIMEZONE
TZID:America/Denver
BEGIN:DAYLIGHT
TZOFFSETFROM:-0700
TZOFFSETTO:-0600
TZNAME:MDT
DTSTART:20250309T090000
END:DAYLIGHT
BEGIN:STANDARD
TZOFFSETFROM:-0600
TZOFFSETTO:-0700
TZNAME:MST
DTSTART:20251102T080000
END:STANDARD
BEGIN:DAYLIGHT
TZOFFSETFROM:-0700
TZOFFSETTO:-0600
TZNAME:MDT
DTSTART:20260308T090000
END:DAYLIGHT
BEGIN:STANDARD
TZOFFSETFROM:-0600
TZOFFSETTO:-0700
TZNAME:MST
DTSTART:20261101T080000
END:STANDARD
BEGIN:DAYLIGHT
TZOFFSETFROM:-0700
TZOFFSETTO:-0600
TZNAME:MDT
DTSTART:20270314T090000
END:DAYLIGHT
BEGIN:STANDARD
TZOFFSETFROM:-0600
TZOFFSETTO:-0700
TZNAME:MST
DTSTART:20271107T080000
END:STANDARD
END:VTIMEZONE
BEGIN:VEVENT
DTSTART;TZID=America/Denver:20260304T153000
DTEND;TZID=America/Denver:20260304T170000
DTSTAMP:20260424T090754
CREATED:20251120T195742Z
LAST-MODIFIED:20251120T200248Z
UID:9814-1772638200-1772643600@water-law.com
SUMMARY:OAWU - 2026 Annual Management & Technical Conference
DESCRIPTION:Shareholder Laura Schroeder will provide continuing education on Easements & Encroachment Policies & Litigation during the annual Oregon Association of Water Utilities (OAWU) Conference\, on Wednesday\, March 4th from 3:30-5 PM. Her presentation will focus on obtaining or expanding easements for water and wastewater infrastructure\, maintenance\, repair or replacement. Learn more about the organization at Oregon Association of Water Utilities (oawu.net).
URL:https://water-law.com/event/oawu-2026-annual-management-technical-conference/
LOCATION:Sunriver Resort\, 17600 Center Drive\, Sunriver\, OR\, 97707\, United States
END:VEVENT
BEGIN:VEVENT
DTSTART;TZID=America/Denver:20260305T080000
DTEND;TZID=America/Denver:20260305T090000
DTSTAMP:20260424T090754
CREATED:20251120T201135Z
LAST-MODIFIED:20251120T201135Z
UID:9817-1772697600-1772701200@water-law.com
SUMMARY:OAWU - 2026 Annual Management & Technical Conference
DESCRIPTION:Following Laura Schroeder’s class on Easements & Encroachment Policies & Litigation\, she will be presenting\, on Thursday\, March 5th from 8:00AM-9AM as well. Her presentation will focus on Bylaws\, Rules & Regulations\, & Policies. Learn more about the organization at Oregon Association of Water Utilities (oawu.net).
URL:https://water-law.com/event/oawu-2026-annual-management-technical-conference-2/
LOCATION:Sunriver Resort\, 17600 Center Drive\, Sunriver\, OR\, 97707\, United States
END:VEVENT
BEGIN:VEVENT
DTSTART;TZID=America/Denver:20260306T110000
DTEND;TZID=America/Denver:20260306T110000
DTSTAMP:20260424T090754
CREATED:20251120T203831Z
LAST-MODIFIED:20251120T203831Z
UID:9819-1772794800-1772794800@water-law.com
SUMMARY:Oregon Women for Agriculture Annual Convention
DESCRIPTION:Oregon Women for Agriculture will be hosting their Annual Convention March 5th through the 7th\, 2026 at McMenamin’s Grand Lodge in Forest Grove\, Oregon. Schroeder Law’s Laura Schroeder and Tara Lomacz will both be in attendance.  Laura will be presenting Water Rights Updates & Basics on Friday March 6th from 110AM to 12PM
URL:https://water-law.com/event/oregon-women-for-agriculture-annual-convention/
LOCATION:McMenamin’s Grand Lodge\, 3505 Pacific Avenue\, Forest Grove\, OR\, 97116\, United States
END:VEVENT
BEGIN:VEVENT
DTSTART;TZID=America/Denver:20260330T122000
DTEND;TZID=America/Denver:20260330T132000
DTSTAMP:20260424T090754
CREATED:20260127T191316Z
LAST-MODIFIED:20260127T191316Z
UID:9913-1774873200-1774876800@water-law.com
SUMMARY:2026 Eastern Oregon Operators Conference - Laura Schroeder & Henry Perlstein “Enforcing easements and enforceable encroachment policies”
DESCRIPTION:On Monday\, March 30th from 12:20-1:20 PM\, Laura Schroeder and Henry Perlstein will provide continuing education on methods for creating a water rights inventory at the Eastern Oregon Operators Conference.  The focus of the presentation will be enforcing easements and enforceable encroachment policies and some of the lessons that Schroeder Law has learned in helping system operators navigate the unexpected rough waters. It will also address what distribution and collection system operators can do\, from a practical standpoint\, to enact encroachment enforcement policies in their easements. Visit EASTERN OREGON OPERATORS SECTION – Eastern Oregon Home- News and Updates (pncwa.org) for more details on attending the conference.
URL:https://water-law.com/event/2026-eastern-oregon-operators-conference-laura-schroeder-henry-perlstein-enforcing-easements-and-enforceable-encroachment-policies/
LOCATION:Four Rivers Cultural Center\, 676 SW 5th Ave.\, Ontario\, OR\, 97914\, United States
END:VEVENT
BEGIN:VEVENT
DTSTART;VALUE=DATE:20260331
DTEND;VALUE=DATE:20260404
DTSTAMP:20260424T090754
CREATED:20260127T164908Z
LAST-MODIFIED:20260127T164908Z
UID:9908-1774998000-1775257199@water-law.com
SUMMARY:2026 IRWA Spring Conference
DESCRIPTION:Laura Schroeder will be attending the 35th Annual IRWA Spring Conference at The Riverside Hotel\, Boise\, Idaho on April 1-3. This event is a place to earn continuing education units (CEUs). There are 62 courses and three offsite tours to choose from and the opportunity to earn up to 1.3 CEUs. The networking gained from associating with peers and exhibitors is invaluable. The event will include IRWA’s Annual Membership Meeting\, Awards Dinner\, and Game Night!
URL:https://water-law.com/event/2026-irwa-spring-conference/
LOCATION:The Riverside Hotel\, 2900 W CHINDEN BLVD\, BOISE\, ID\, 83714\, United States
END:VEVENT
BEGIN:VEVENT
DTSTART;VALUE=DATE:20260817
DTEND;VALUE=DATE:20260821
DTSTAMP:20260424T090754
CREATED:20260417T183918Z
LAST-MODIFIED:20260417T183918Z
UID:10001-1786924800-1787270399@water-law.com
SUMMARY:2026 OAWU Summer Classic Conference
DESCRIPTION:Join attorneys Laura Schroeder and Henry Perlstein at the Oregon Association of Water Utilities (“OAWU”) annual conference this summer in Seaside\, Oregon. The event offers classes on water\, wastewater\, groundwater\, and more. Attendees will also get the chance to meet with the Board of Directors\, check out new technology and equipment exhibited by vendors\, and speak with other professionals in the water utilities industry. \nLaura Schroeder and Henry Perlstein will be teaching a class during the conference. On Tuesday\, August 18th from 3:30 PM to 5:00 PM\, Laura Schroeder and Henry Perlstein will be teaching a class entitled “Laws 101 for Utility Operations.”  To learn more about the full event schedule\, visit the OAWU website here.
URL:https://water-law.com/event/2026-oawu-summer-classic-conference/
END:VEVENT
BEGIN:VEVENT
DTSTART;VALUE=DATE:20261202
DTEND;VALUE=DATE:20261205
DTSTAMP:20260424T090754
CREATED:20260313T185422Z
LAST-MODIFIED:20260313T185422Z
UID:9959-1796169600-1796428799@water-law.com
SUMMARY:Washington State Water Resources Association Annual Conference
DESCRIPTION:The 2026 WSWRA Annual Conference will be held at the historic Davenport Hotel in Spokane\, Washington.  The three-day event held December 2nd through December 4th\, 2026 will showcase captivating speakers\, 2027 industry insights and a look back on 2026 accomplishments. Join our Shareholder Laura Schroeder at this informative event.
URL:https://water-law.com/event/washington-state-water-resources-association-annual-conference/
LOCATION:Historic Davenport Hotel\, 10 South Post Street\, Spokane\, WA\, 99201\, United States
ORGANIZER;CN="Washington State Water Resources Association":MAILTO:jen@wswra.org
END:VEVENT
END:VCALENDAR