BEGIN:VCALENDAR
VERSION:2.0
PRODID:-//Schroeder Law Offices, PC - ECPv6.15.20//NONSGML v1.0//EN
CALSCALE:GREGORIAN
METHOD:PUBLISH
X-WR-CALNAME:Schroeder Law Offices, PC
X-ORIGINAL-URL:https://water-law.com
X-WR-CALDESC:Events for Schroeder Law Offices, PC
REFRESH-INTERVAL;VALUE=DURATION:PT1H
X-Robots-Tag:noindex
X-PUBLISHED-TTL:PT1H
BEGIN:VTIMEZONE
TZID:America/Denver
BEGIN:DAYLIGHT
TZOFFSETFROM:-0700
TZOFFSETTO:-0600
TZNAME:MDT
DTSTART:20250309T090000
END:DAYLIGHT
BEGIN:STANDARD
TZOFFSETFROM:-0600
TZOFFSETTO:-0700
TZNAME:MST
DTSTART:20251102T080000
END:STANDARD
BEGIN:DAYLIGHT
TZOFFSETFROM:-0700
TZOFFSETTO:-0600
TZNAME:MDT
DTSTART:20260308T090000
END:DAYLIGHT
BEGIN:STANDARD
TZOFFSETFROM:-0600
TZOFFSETTO:-0700
TZNAME:MST
DTSTART:20261101T080000
END:STANDARD
BEGIN:DAYLIGHT
TZOFFSETFROM:-0700
TZOFFSETTO:-0600
TZNAME:MDT
DTSTART:20270314T090000
END:DAYLIGHT
BEGIN:STANDARD
TZOFFSETFROM:-0600
TZOFFSETTO:-0700
TZNAME:MST
DTSTART:20271107T080000
END:STANDARD
END:VTIMEZONE
BEGIN:VEVENT
DTSTART;VALUE=DATE:20260331
DTEND;VALUE=DATE:20260404
DTSTAMP:20260423T230848
CREATED:20260127T164908Z
LAST-MODIFIED:20260127T164908Z
UID:9908-1774998000-1775257199@water-law.com
SUMMARY:2026 IRWA Spring Conference
DESCRIPTION:Laura Schroeder will be attending the 35th Annual IRWA Spring Conference at The Riverside Hotel\, Boise\, Idaho on April 1-3. This event is a place to earn continuing education units (CEUs). There are 62 courses and three offsite tours to choose from and the opportunity to earn up to 1.3 CEUs. The networking gained from associating with peers and exhibitors is invaluable. The event will include IRWA’s Annual Membership Meeting\, Awards Dinner\, and Game Night!
URL:https://water-law.com/event/2026-irwa-spring-conference/
LOCATION:The Riverside Hotel\, 2900 W CHINDEN BLVD\, BOISE\, ID\, 83714\, United States
END:VEVENT
END:VCALENDAR