BEGIN:VCALENDAR
VERSION:2.0
PRODID:-//Schroeder Law Offices, PC - ECPv6.15.20//NONSGML v1.0//EN
CALSCALE:GREGORIAN
METHOD:PUBLISH
X-ORIGINAL-URL:https://water-law.com
X-WR-CALDESC:Events for Schroeder Law Offices, PC
REFRESH-INTERVAL;VALUE=DURATION:PT1H
X-Robots-Tag:noindex
X-PUBLISHED-TTL:PT1H
BEGIN:VTIMEZONE
TZID:America/Denver
BEGIN:DAYLIGHT
TZOFFSETFROM:-0700
TZOFFSETTO:-0600
TZNAME:MDT
DTSTART:20240310T090000
END:DAYLIGHT
BEGIN:STANDARD
TZOFFSETFROM:-0600
TZOFFSETTO:-0700
TZNAME:MST
DTSTART:20241103T080000
END:STANDARD
BEGIN:DAYLIGHT
TZOFFSETFROM:-0700
TZOFFSETTO:-0600
TZNAME:MDT
DTSTART:20250309T090000
END:DAYLIGHT
BEGIN:STANDARD
TZOFFSETFROM:-0600
TZOFFSETTO:-0700
TZNAME:MST
DTSTART:20251102T080000
END:STANDARD
BEGIN:DAYLIGHT
TZOFFSETFROM:-0700
TZOFFSETTO:-0600
TZNAME:MDT
DTSTART:20260308T090000
END:DAYLIGHT
BEGIN:STANDARD
TZOFFSETFROM:-0600
TZOFFSETTO:-0700
TZNAME:MST
DTSTART:20261101T080000
END:STANDARD
END:VTIMEZONE
BEGIN:VEVENT
DTSTART;TZID=America/Denver:20251021T080000
DTEND;TZID=America/Denver:20251024T170000
DTSTAMP:20260424T084838
CREATED:20250819T233053Z
LAST-MODIFIED:20250819T233053Z
UID:9734-1761033600-1761325200@water-law.com
SUMMARY:USCID 2025 Conference
DESCRIPTION:Therese Stix and Laura Schroeder will be at the United States Committee on Irrigation and Drainage conference this year. Therese Stix is completing her year as president of the committee.
URL:https://water-law.com/event/uscid-2025-conference/
END:VEVENT
END:VCALENDAR